Package: erccdashboard Version: 1.43.0 Command: /Library/Frameworks/R.framework/Resources/bin/R CMD INSTALL erccdashboard StartedAt: 2025-10-06 15:09:59 -0400 (Mon, 06 Oct 2025) EndedAt: 2025-10-06 15:10:21 -0400 (Mon, 06 Oct 2025) EllapsedTime: 21.3 seconds RetCode: 0 Status: OK