Package: erccdashboard Version: 1.43.0 Command: /Library/Frameworks/R.framework/Resources/bin/R CMD build --keep-empty-dirs --no-resave-data erccdashboard StartedAt: 2025-10-05 16:58:00 -0400 (Sun, 05 Oct 2025) EndedAt: 2025-10-05 16:58:52 -0400 (Sun, 05 Oct 2025) EllapsedTime: 52.6 seconds RetCode: 0 Status: OK PackageFile: erccdashboard_1.43.0.tar.gz PackageFileSize: 2.122 MiB