Package: epivizrStandalone Version: 1.37.1 Command: /home/biocbuild/bbs-3.22-bioc/R/bin/R CMD INSTALL epivizrStandalone StartedAt: 2025-09-30 15:45:59 -0400 (Tue, 30 Sep 2025) EndedAt: 2025-09-30 15:46:39 -0400 (Tue, 30 Sep 2025) EllapsedTime: 39.4 seconds RetCode: 0 Status: OK