Package: epivizrStandalone Version: 1.37.1 Command: /home/biocbuild/bbs-3.22-bioc/R/bin/R CMD build --keep-empty-dirs --no-resave-data --md5 epivizrStandalone StartedAt: 2025-09-30 17:32:38 -0400 (Tue, 30 Sep 2025) EndedAt: 2025-09-30 17:33:18 -0400 (Tue, 30 Sep 2025) EllapsedTime: 40.1 seconds RetCode: 0 Status: OK PackageFile: epivizrStandalone_1.37.1.tar.gz PackageFileSize: 220.5 KiB