Package: epivizrServer Version: 1.39.0 Command: /home/biocbuild/bbs-3.23-bioc/R/bin/R CMD build --keep-empty-dirs --no-resave-data epivizrServer StartedAt: 2025-11-07 17:29:13 -0500 (Fri, 07 Nov 2025) EndedAt: 2025-11-07 17:29:19 -0500 (Fri, 07 Nov 2025) EllapsedTime: 6.0 seconds RetCode: 0 Status: OK PackageFile: epivizrServer_1.39.0.tar.gz PackageFileSize: 229.9 KiB