Package: epivizrData Version: 1.39.0 Command: /home/biocbuild/bbs-3.23-bioc/R/bin/R CMD INSTALL epivizrData StartedAt: 2025-11-20 15:42:55 -0500 (Thu, 20 Nov 2025) EndedAt: 2025-11-20 15:43:40 -0500 (Thu, 20 Nov 2025) EllapsedTime: 45.1 seconds RetCode: 0 Status: OK