Package: epivizrData Version: 1.39.0 Command: /home/biocbuild/bbs-3.23-bioc/R/bin/R CMD build --keep-empty-dirs --no-resave-data epivizrData StartedAt: 2025-11-20 17:32:13 -0500 (Thu, 20 Nov 2025) EndedAt: 2025-11-20 17:33:10 -0500 (Thu, 20 Nov 2025) EllapsedTime: 57.0 seconds RetCode: 0 Status: OK PackageFile: epivizrData_1.39.0.tar.gz PackageFileSize: 243.4 KiB