Package: epivizrData Version: 1.37.2 Command: /Library/Frameworks/R.framework/Resources/bin/R CMD build --keep-empty-dirs --no-resave-data epivizrData StartedAt: 2025-10-24 17:02:08 -0400 (Fri, 24 Oct 2025) EndedAt: 2025-10-24 17:03:05 -0400 (Fri, 24 Oct 2025) EllapsedTime: 57.0 seconds RetCode: 0 Status: OK PackageFile: epivizrData_1.37.2.tar.gz PackageFileSize: 243.4 KiB