Package: epivizrData Version: 1.37.2 Command: /Library/Frameworks/R.framework/Resources/bin/R CMD INSTALL epivizrData StartedAt: 2025-10-03 15:22:22 -0400 (Fri, 03 Oct 2025) EndedAt: 2025-10-03 15:22:38 -0400 (Fri, 03 Oct 2025) EllapsedTime: 16.5 seconds RetCode: 0 Status: OK