Package: epivizrData Version: 1.37.2 Command: /Library/Frameworks/R.framework/Resources/bin/R CMD build --keep-empty-dirs --no-resave-data epivizrData StartedAt: 2025-10-03 16:20:51 -0400 (Fri, 03 Oct 2025) EndedAt: 2025-10-03 16:21:12 -0400 (Fri, 03 Oct 2025) EllapsedTime: 21.2 seconds RetCode: 0 Status: OK PackageFile: epivizrData_1.37.2.tar.gz PackageFileSize: 243.4 KiB