Package: epivizrData Version: 1.37.2 Command: rm -rf epivizrData.buildbin-libdir && mkdir epivizrData.buildbin-libdir && /Users/biocbuild/BBS/utils/build-universal.sh epivizrData_1.37.2.tar.gz /Library/Frameworks/R.framework/Resources/bin/R epivizrData.buildbin-libdir StartedAt: 2025-10-05 22:42:27 -0400 (Sun, 05 Oct 2025) EndedAt: 2025-10-05 22:42:44 -0400 (Sun, 05 Oct 2025) EllapsedTime: 17.3 seconds RetCode: 0 Status: OK PackageFile: epivizrData_1.37.2.tgz PackageFileSize: 882.2 KiB