Package: epivizrChart Version: 1.31.0 Command: /home/biocbuild/R/R/bin/R CMD INSTALL epivizrChart StartedAt: 2025-10-02 21:12:50 -0000 (Thu, 02 Oct 2025) EndedAt: 2025-10-02 21:13:47 -0000 (Thu, 02 Oct 2025) EllapsedTime: 57.1 seconds RetCode: 0 Status: OK