Package: epivizrChart Version: 1.31.0 Command: /home/biocbuild/R/R/bin/R CMD build --keep-empty-dirs --no-resave-data epivizrChart StartedAt: 2025-10-02 23:51:55 -0000 (Thu, 02 Oct 2025) EndedAt: 2025-10-02 23:54:19 -0000 (Thu, 02 Oct 2025) EllapsedTime: 144.0 seconds RetCode: 0 Status: OK PackageFile: epivizrChart_1.31.0.tar.gz PackageFileSize: 5.417 MiB