Package: epivizrChart Version: 1.31.0 Command: /home/biocbuild/bbs-3.22-bioc/R/bin/R CMD INSTALL epivizrChart StartedAt: 2025-10-03 15:42:21 -0400 (Fri, 03 Oct 2025) EndedAt: 2025-10-03 15:43:03 -0400 (Fri, 03 Oct 2025) EllapsedTime: 41.6 seconds RetCode: 0 Status: OK