Package: epivizrChart Version: 1.31.0 Command: /home/biocbuild/bbs-3.22-bioc/R/bin/R CMD build --keep-empty-dirs --no-resave-data --md5 epivizrChart StartedAt: 2025-10-03 17:31:21 -0400 (Fri, 03 Oct 2025) EndedAt: 2025-10-03 17:33:07 -0400 (Fri, 03 Oct 2025) EllapsedTime: 106.0 seconds RetCode: 0 Status: OK PackageFile: epivizrChart_1.31.0.tar.gz PackageFileSize: 5.306 MiB