Package: epivizrChart Version: 1.33.0 Command: /home/biocbuild/bbs-3.23-bioc/R/bin/R CMD INSTALL epivizrChart StartedAt: 2025-11-20 15:43:40 -0500 (Thu, 20 Nov 2025) EndedAt: 2025-11-20 15:44:23 -0500 (Thu, 20 Nov 2025) EllapsedTime: 42.7 seconds RetCode: 0 Status: OK