Package: epivizrChart Version: 1.33.0 Command: /home/biocbuild/bbs-3.23-bioc/R/bin/R CMD check --install=check:epivizrChart.install-out.txt --library=/home/biocbuild/bbs-3.23-bioc/R/site-library --timings epivizrChart_1.33.0.tar.gz StartedAt: 2025-11-20 23:24:50 -0500 (Thu, 20 Nov 2025) EndedAt: 2025-11-20 23:33:16 -0500 (Thu, 20 Nov 2025) EllapsedTime: 505.7 seconds RetCode: 0 Status: OK CheckDir: epivizrChart.Rcheck Warnings: 0