Package: epivizrChart Version: 1.33.0 Command: /home/biocbuild/bbs-3.23-bioc/R/bin/R CMD build --keep-empty-dirs --no-resave-data epivizrChart StartedAt: 2025-11-20 17:32:12 -0500 (Thu, 20 Nov 2025) EndedAt: 2025-11-20 17:34:31 -0500 (Thu, 20 Nov 2025) EllapsedTime: 139.1 seconds RetCode: 0 Status: OK PackageFile: epivizrChart_1.33.0.tar.gz PackageFileSize: 5.315 MiB