Package: epivizr Version: 2.39.0 Command: /Library/Frameworks/R.framework/Resources/bin/R CMD INSTALL epivizr StartedAt: 2025-10-14 15:39:47 -0400 (Tue, 14 Oct 2025) EndedAt: 2025-10-14 15:40:44 -0400 (Tue, 14 Oct 2025) EllapsedTime: 57.3 seconds RetCode: 0 Status: OK