Package: epivizr Version: 2.39.0 Command: /Library/Frameworks/R.framework/Resources/bin/R CMD build --keep-empty-dirs --no-resave-data epivizr StartedAt: 2025-10-14 17:04:36 -0400 (Tue, 14 Oct 2025) EndedAt: 2025-10-14 17:05:55 -0400 (Tue, 14 Oct 2025) EllapsedTime: 78.8 seconds RetCode: 0 Status: OK PackageFile: epivizr_2.39.0.tar.gz PackageFileSize: 1.153 MiB