Package: epivizr Version: 2.39.0 Command: rm -rf epivizr.buildbin-libdir && mkdir epivizr.buildbin-libdir && /Users/biocbuild/BBS/utils/build-universal.sh epivizr_2.39.0.tar.gz /Library/Frameworks/R.framework/Resources/bin/R epivizr.buildbin-libdir StartedAt: 2025-10-15 02:43:23 -0400 (Wed, 15 Oct 2025) EndedAt: 2025-10-15 02:44:24 -0400 (Wed, 15 Oct 2025) EllapsedTime: 61.2 seconds RetCode: 0 Status: OK PackageFile: epivizr_2.39.0.tgz PackageFileSize: 2 MiB