Package: epivizr Version: 2.39.0 Command: /Library/Frameworks/R.framework/Resources/bin/R CMD INSTALL epivizr StartedAt: 2025-10-03 15:23:33 -0400 (Fri, 03 Oct 2025) EndedAt: 2025-10-03 15:23:49 -0400 (Fri, 03 Oct 2025) EllapsedTime: 16.5 seconds RetCode: 0 Status: OK