Package: epivizr Version: 2.39.0 Command: rm -rf epivizr.buildbin-libdir && mkdir epivizr.buildbin-libdir && /Users/biocbuild/BBS/utils/build-universal.sh epivizr_2.39.0.tar.gz /Library/Frameworks/R.framework/Resources/bin/R epivizr.buildbin-libdir StartedAt: 2025-10-03 22:38:43 -0400 (Fri, 03 Oct 2025) EndedAt: 2025-10-03 22:39:01 -0400 (Fri, 03 Oct 2025) EllapsedTime: 18.3 seconds RetCode: 0 Status: OK PackageFile: epivizr_2.39.0.tgz PackageFileSize: 2.048 MiB