Package: epivizr Version: 2.41.0 Maintainer: Hector Corrada Bravo MaintainerEmail: hcorrada at gmail.com git_url: https://git.bioconductor.org/packages/epivizr git_branch: devel git_last_commit: ba79c0b git_last_commit_date: 2025-10-29 10:16:45 -0400 (Wed, 29 Oct 2025)