Package: epistasisGA Version: 1.13.0 Command: /home/biocbuild/bbs-3.23-bioc/R/bin/R CMD INSTALL epistasisGA StartedAt: 2025-11-07 15:11:47 -0500 (Fri, 07 Nov 2025) EndedAt: 2025-11-07 15:12:37 -0500 (Fri, 07 Nov 2025) EllapsedTime: 49.3 seconds RetCode: 0 Status: OK