Package: epistack Version: 1.17.0 Command: /home/biocbuild/bbs-3.23-bioc/R/bin/R CMD build --keep-empty-dirs --no-resave-data epistack StartedAt: 2025-11-20 17:31:29 -0500 (Thu, 20 Nov 2025) EndedAt: 2025-11-20 17:32:57 -0500 (Thu, 20 Nov 2025) EllapsedTime: 88.0 seconds RetCode: 0 Status: OK PackageFile: epistack_1.17.0.tar.gz PackageFileSize: 3.717 MiB