Package: epistack Version: 1.15.1 Command: /Library/Frameworks/R.framework/Resources/bin/R CMD INSTALL epistack StartedAt: 2025-10-13 15:24:48 -0400 (Mon, 13 Oct 2025) EndedAt: 2025-10-13 15:25:16 -0400 (Mon, 13 Oct 2025) EllapsedTime: 28.0 seconds RetCode: 0 Status: OK