Package: epistack Version: 1.15.1 Command: /Library/Frameworks/R.framework/Resources/bin/R CMD build --keep-empty-dirs --no-resave-data epistack StartedAt: 2025-10-13 17:06:36 -0400 (Mon, 13 Oct 2025) EndedAt: 2025-10-13 17:08:27 -0400 (Mon, 13 Oct 2025) EllapsedTime: 110.8 seconds RetCode: 0 Status: OK PackageFile: epistack_1.15.1.tar.gz PackageFileSize: 3.903 MiB