Package: epistack Version: 1.15.1 Command: rm -rf epistack.buildbin-libdir && mkdir epistack.buildbin-libdir && /Users/biocbuild/BBS/utils/build-universal.sh epistack_1.15.1.tar.gz /Library/Frameworks/R.framework/Resources/bin/R epistack.buildbin-libdir StartedAt: 2025-10-14 02:43:05 -0400 (Tue, 14 Oct 2025) EndedAt: 2025-10-14 02:43:36 -0400 (Tue, 14 Oct 2025) EllapsedTime: 31.4 seconds RetCode: 0 Status: OK PackageFile: epistack_1.15.1.tgz PackageFileSize: 2.127 MiB