Package: epistack Version: 1.15.1 Command: /Library/Frameworks/R.framework/Resources/bin/R CMD INSTALL epistack StartedAt: 2025-09-30 15:14:17 -0400 (Tue, 30 Sep 2025) EndedAt: 2025-09-30 15:14:26 -0400 (Tue, 30 Sep 2025) EllapsedTime: 8.8 seconds RetCode: 0 Status: OK