Package: epistack Version: 1.15.1 Command: /Library/Frameworks/R.framework/Resources/bin/R CMD build --keep-empty-dirs --no-resave-data epistack StartedAt: 2025-09-30 16:20:15 -0400 (Tue, 30 Sep 2025) EndedAt: 2025-09-30 16:20:52 -0400 (Tue, 30 Sep 2025) EllapsedTime: 37.4 seconds RetCode: 0 Status: OK PackageFile: epistack_1.15.1.tar.gz PackageFileSize: 3.905 MiB