Package: epiregulon Version: 1.99.7 Command: /Library/Frameworks/R.framework/Resources/bin/R CMD INSTALL epiregulon StartedAt: 2025-10-24 15:51:46 -0400 (Fri, 24 Oct 2025) EndedAt: 2025-10-24 15:52:33 -0400 (Fri, 24 Oct 2025) EllapsedTime: 47.2 seconds RetCode: 0 Status: OK