Package: epiregulon Version: 1.99.7 Command: /Library/Frameworks/R.framework/Resources/bin/R CMD build --keep-empty-dirs --no-resave-data epiregulon StartedAt: 2025-10-24 17:01:14 -0400 (Fri, 24 Oct 2025) EndedAt: 2025-10-24 17:11:19 -0400 (Fri, 24 Oct 2025) EllapsedTime: 604.9 seconds RetCode: 0 Status: OK PackageFile: epiregulon_1.99.7.tar.gz PackageFileSize: 1.291 MiB