Package: epiregulon Version: 1.99.7 Command: rm -rf epiregulon.buildbin-libdir && mkdir epiregulon.buildbin-libdir && /Users/biocbuild/BBS/utils/build-universal.sh epiregulon_1.99.7.tar.gz /Library/Frameworks/R.framework/Resources/bin/R epiregulon.buildbin-libdir StartedAt: 2025-10-25 01:39:16 -0400 (Sat, 25 Oct 2025) EndedAt: 2025-10-25 01:40:07 -0400 (Sat, 25 Oct 2025) EllapsedTime: 50.8 seconds RetCode: 0 Status: OK PackageFile: epiregulon_1.99.7.tgz PackageFileSize: 1.632 MiB