Package: epiregulon Version: 1.5.1 Command: /Library/Frameworks/R.framework/Resources/bin/R CMD INSTALL epiregulon StartedAt: 2025-10-09 15:29:45 -0400 (Thu, 09 Oct 2025) EndedAt: 2025-10-09 15:29:59 -0400 (Thu, 09 Oct 2025) EllapsedTime: 14.4 seconds RetCode: 0 Status: OK