Package: epiregulon Version: 1.5.1 Command: /Library/Frameworks/R.framework/Resources/bin/R CMD build --keep-empty-dirs --no-resave-data epiregulon StartedAt: 2025-10-09 16:19:24 -0400 (Thu, 09 Oct 2025) EndedAt: 2025-10-09 16:20:55 -0400 (Thu, 09 Oct 2025) EllapsedTime: 90.9 seconds RetCode: 0 Status: OK PackageFile: epiregulon_1.5.1.tar.gz PackageFileSize: 1.248 MiB