Package: epiregulon Version: 1.5.1 Command: rm -rf epiregulon.buildbin-libdir && mkdir epiregulon.buildbin-libdir && /Users/biocbuild/BBS/utils/build-universal.sh epiregulon_1.5.1.tar.gz /Library/Frameworks/R.framework/Resources/bin/R epiregulon.buildbin-libdir StartedAt: 2025-10-10 22:40:23 -0400 (Fri, 10 Oct 2025) EndedAt: 2025-10-10 22:40:39 -0400 (Fri, 10 Oct 2025) EllapsedTime: 16.3 seconds RetCode: 0 Status: OK PackageFile: epiregulon_1.5.1.tgz PackageFileSize: 1.39 MiB