Package: epiregulon.extra Version: 1.5.1 Command: /Library/Frameworks/R.framework/Resources/bin/R CMD INSTALL epiregulon.extra StartedAt: 2025-10-24 15:32:09 -0400 (Fri, 24 Oct 2025) EndedAt: 2025-10-24 15:32:20 -0400 (Fri, 24 Oct 2025) EllapsedTime: 11.3 seconds RetCode: 0 Status: OK