Package: epiregulon.extra Version: 1.5.1 Command: /Library/Frameworks/R.framework/Resources/bin/R CMD build --keep-empty-dirs --no-resave-data epiregulon.extra StartedAt: 2025-10-26 16:23:52 -0400 (Sun, 26 Oct 2025) EndedAt: 2025-10-26 16:24:25 -0400 (Sun, 26 Oct 2025) EllapsedTime: 33.3 seconds RetCode: 1 Status: ERROR PackageFile: None PackageFileSize: NA