Package: epimutacions Version: 1.15.0 Command: /home/biocbuild/bbs-3.23-bioc/R/bin/R CMD INSTALL epimutacions StartedAt: 2025-11-04 15:59:32 -0500 (Tue, 04 Nov 2025) EndedAt: 2025-11-04 16:00:20 -0500 (Tue, 04 Nov 2025) EllapsedTime: 47.8 seconds RetCode: 0 Status: OK