Package: epimutacions Version: 1.15.0 Command: /home/biocbuild/bbs-3.23-bioc/R/bin/R CMD build --keep-empty-dirs --no-resave-data epimutacions StartedAt: 2025-11-04 17:26:14 -0500 (Tue, 04 Nov 2025) EndedAt: 2025-11-04 17:29:21 -0500 (Tue, 04 Nov 2025) EllapsedTime: 187.1 seconds RetCode: 0 Status: OK PackageFile: epimutacions_1.15.0.tar.gz PackageFileSize: 1.726 MiB