Package: epimutacions Version: 1.13.0 Command: /Library/Frameworks/R.framework/Resources/bin/R CMD build --keep-empty-dirs --no-resave-data epimutacions StartedAt: 2025-10-10 17:05:04 -0400 (Fri, 10 Oct 2025) EndedAt: 2025-10-10 17:09:11 -0400 (Fri, 10 Oct 2025) EllapsedTime: 247.1 seconds RetCode: 0 Status: OK PackageFile: epimutacions_1.13.0.tar.gz PackageFileSize: 1.736 MiB