Package: epimutacions Version: 1.13.0 Command: rm -rf epimutacions.buildbin-libdir && mkdir epimutacions.buildbin-libdir && /Users/biocbuild/BBS/utils/build-universal.sh epimutacions_1.13.0.tar.gz /Library/Frameworks/R.framework/Resources/bin/R epimutacions.buildbin-libdir StartedAt: 2025-10-11 02:28:30 -0400 (Sat, 11 Oct 2025) EndedAt: 2025-10-11 02:29:44 -0400 (Sat, 11 Oct 2025) EllapsedTime: 74.1 seconds RetCode: 0 Status: OK PackageFile: epimutacions_1.13.0.tgz PackageFileSize: 1.654 MiB