Package: epigraHMM Version: 1.19.0 Command: /home/biocbuild/bbs-3.23-bioc/R/bin/R CMD INSTALL epigraHMM StartedAt: 2025-11-04 15:30:23 -0500 (Tue, 04 Nov 2025) EndedAt: 2025-11-04 15:32:27 -0500 (Tue, 04 Nov 2025) EllapsedTime: 123.5 seconds RetCode: 0 Status: OK