Package: epigraHMM Version: 1.19.0 Command: /home/biocbuild/bbs-3.23-bioc/R/bin/R CMD build --keep-empty-dirs --no-resave-data epigraHMM StartedAt: 2025-11-05 17:33:21 -0500 (Wed, 05 Nov 2025) EndedAt: 2025-11-05 17:42:27 -0500 (Wed, 05 Nov 2025) EllapsedTime: 545.6 seconds RetCode: 0 Status: OK PackageFile: epigraHMM_1.19.0.tar.gz PackageFileSize: 723.1 KiB