Package: epigraHMM Version: 1.17.3 Command: /Library/Frameworks/R.framework/Resources/bin/R CMD INSTALL epigraHMM StartedAt: 2025-10-13 15:33:11 -0400 (Mon, 13 Oct 2025) EndedAt: 2025-10-13 15:35:37 -0400 (Mon, 13 Oct 2025) EllapsedTime: 145.9 seconds RetCode: 0 Status: OK