Package: epigraHMM Version: 1.17.3 Command: rm -rf epigraHMM.buildbin-libdir && mkdir epigraHMM.buildbin-libdir && /Users/biocbuild/BBS/utils/build-universal.sh epigraHMM_1.17.3.tar.gz /Library/Frameworks/R.framework/Resources/bin/R epigraHMM.buildbin-libdir StartedAt: 2025-10-15 02:43:11 -0400 (Wed, 15 Oct 2025) EndedAt: 2025-10-15 02:45:47 -0400 (Wed, 15 Oct 2025) EllapsedTime: 155.1 seconds RetCode: 0 Status: OK PackageFile: epigraHMM_1.17.3.tgz PackageFileSize: 2.314 MiB