Package: epigraHMM Version: 1.17.3 Command: /Library/Frameworks/R.framework/Resources/bin/R CMD INSTALL epigraHMM StartedAt: 2025-09-30 15:18:09 -0400 (Tue, 30 Sep 2025) EndedAt: 2025-09-30 15:18:47 -0400 (Tue, 30 Sep 2025) EllapsedTime: 38.1 seconds RetCode: 0 Status: OK