Package: epigraHMM Version: 1.17.3 Command: /Library/Frameworks/R.framework/Resources/bin/R CMD build --keep-empty-dirs --no-resave-data epigraHMM StartedAt: 2025-09-30 16:19:32 -0400 (Tue, 30 Sep 2025) EndedAt: 2025-09-30 16:23:45 -0400 (Tue, 30 Sep 2025) EllapsedTime: 252.7 seconds RetCode: 0 Status: OK PackageFile: epigraHMM_1.17.3.tar.gz PackageFileSize: 733.8 KiB