Package: epigraHMM Version: 1.17.3 Command: rm -rf epigraHMM.buildbin-libdir && mkdir epigraHMM.buildbin-libdir && /Users/biocbuild/BBS/utils/build-universal.sh epigraHMM_1.17.3.tar.gz /Library/Frameworks/R.framework/Resources/bin/R epigraHMM.buildbin-libdir StartedAt: 2025-09-30 22:39:01 -0400 (Tue, 30 Sep 2025) EndedAt: 2025-09-30 22:39:42 -0400 (Tue, 30 Sep 2025) EllapsedTime: 40.8 seconds RetCode: 0 Status: OK PackageFile: epigraHMM_1.17.3.tgz PackageFileSize: 2.025 MiB